BEGIN:VCALENDAR
VERSION:2.0
PRODID:-//Contratero//ES
CALSCALE:GREGORIAN
METHOD:PUBLISH
BEGIN:VEVENT
UID:ARM CO-4/2024@contratero.es
DTSTAMP:20260420T032359Z
DTSTART:20260316T235959
DTEND:20260317T005959
SUMMARY:Cierre: Contratación   de un Sistema gestor de la  activid
DESCRIPTION:Contratación   de un Sistema gestor de la  actividad parlamentaria y de expedientes parlamentarios de la Asamblea Regional de Murcia\\n\\nOrganismo: Asamblea Regional de Murcia\\n\\nVer en Contratero: https://contratero.es/contracts/ARM CO-4/2024
URL:https://contratero.es/contracts/ARM CO-4/2024
STATUS:CONFIRMED
BEGIN:VALARM
TRIGGER:-P1D
ACTION:DISPLAY
DESCRIPTION:Recordatorio: Contratación   de un Sistema g
END:VALARM
END:VEVENT
END:VCALENDAR